BEGIN:VCALENDAR
VERSION:2.0
PRODID:-//OpenAI//Slub ICS//PL
CALSCALE:GREGORIAN
METHOD:PUBLISH
BEGIN:VTIMEZONE
TZID:Europe/Warsaw
X-LIC-LOCATION:Europe/Warsaw
BEGIN:DAYLIGHT
TZOFFSETFROM:+0100
TZOFFSETTO:+0200
TZNAME:CEST
DTSTART:19700329T020000
RRULE:FREQ=YEARLY;BYMONTH=3;BYDAY=-1SU
END:DAYLIGHT
BEGIN:STANDARD
TZOFFSETFROM:+0200
TZOFFSETTO:+0100
TZNAME:CET
DTSTART:19701025T030000
RRULE:FREQ=YEARLY;BYMONTH=10;BYDAY=-1SU
END:STANDARD
END:VTIMEZONE
BEGIN:VEVENT
UID:653e70e3-5972-40e8-8221-67789aba0c9f@myszkowscy.com
DTSTAMP:20260408T120000Z
DTSTART;TZID=Europe/Warsaw:20260814T160000
DTEND;TZID=Europe/Warsaw:20260815T040000
SUMMARY:Ślub Ewy i Mikołaja
LOCATION:Patio na Wodoktach\, ul. Wiślana 32A\, 05-480 Otwock Wielki
DESCRIPTION:Ceremonia zaślubin + wesele\nZbiórka: 15:45\nProsimy o przybyci
 e 15 minut wcześniej.\nŚlub i wesele w tym samym miejscu.\nRSVP: https://s
 lub.myszkowscy.com/?utm_source=ca\nMapa dojazdu: https://maps.app.goo.gl/e
 qhYLUEKbP6ALv1L9
URL:https://slub.myszkowscy.com/?utm_source=ca
ORGANIZER;CN=Ślub Ewy i Mikołaja:mailto:slub@myszkowscy.com
CLASS:PRIVATE
STATUS:CONFIRMED
TRANSP:OPAQUE
BEGIN:VALARM
TRIGGER:-P1M
ACTION:DISPLAY
DESCRIPTION:Przypomnienie: Miesiąc wcześniej — Ślub Ewy i Mikołaja
END:VALARM
BEGIN:VALARM
TRIGGER:-P1W
ACTION:DISPLAY
DESCRIPTION:Przypomnienie: Tydzień wcześniej — Ślub Ewy i Mikołaja
END:VALARM
BEGIN:VALARM
TRIGGER:-P1D
ACTION:DISPLAY
DESCRIPTION:Przypomnienie: Dzień wcześniej — Ślub Ewy i Mikołaja
END:VALARM
BEGIN:VALARM
TRIGGER:-PT1H
ACTION:DISPLAY
DESCRIPTION:Przypomnienie: Godzinę wcześniej — Ślub Ewy i Mikołaja
END:VALARM
END:VEVENT
END:VCALENDAR
